BEGIN:VCALENDAR
VERSION:2.0
PRODID:-//CollegiatePB - ECPv6.15.20//NONSGML v1.0//EN
CALSCALE:GREGORIAN
METHOD:PUBLISH
X-WR-CALNAME:CollegiatePB
X-ORIGINAL-URL:https://collegiatepb.com
X-WR-CALDESC:Events for CollegiatePB
REFRESH-INTERVAL;VALUE=DURATION:PT1H
X-Robots-Tag:noindex
X-PUBLISHED-TTL:PT1H
BEGIN:VTIMEZONE
TZID:UTC
BEGIN:STANDARD
TZOFFSETFROM:+0000
TZOFFSETTO:+0000
TZNAME:UTC
DTSTART:20240101T000000
END:STANDARD
END:VTIMEZONE
BEGIN:VEVENT
DTSTART;VALUE=DATE:20250111
DTEND;VALUE=DATE:20250112
DTSTAMP:20260420T013512
CREATED:20240713T005744Z
LAST-MODIFIED:20240713T013101Z
UID:10000017-1736553600-1736639999@collegiatepb.com
SUMMARY:DUPR - Picklebarn Campus Regional
DESCRIPTION:Mankato\, MN
URL:https://collegiatepb.com/event/dupr-picklebarn-campus-regional/
LOCATION:VA
CATEGORIES:Intercollegiate Events
ORGANIZER;CN="DUPR":MAILTO:college@mydupr.com
END:VEVENT
BEGIN:VEVENT
DTSTART;VALUE=DATE:20250125
DTEND;VALUE=DATE:20250127
DTSTAMP:20260420T013512
CREATED:20240714T141814Z
LAST-MODIFIED:20241111T171952Z
UID:10000022-1737763200-1737935999@collegiatepb.com
SUMMARY:NCPA Texas Regional Championships
DESCRIPTION:REGISTRATION FEE: $50/player (register and pay as a team) \nThis is a regional qualifier being live-streamed nationally will earn select colleges a bid to March Nationals in 2025. All are encouraged to compete to qualify for either the D1 or D2 level! The NCPA is taking college pickleball to the next level. \n\nTwo-day regional: Saturday and Sunday.\nMen’s Doubles\, Women’s Doubles\, Men’s Singles\, Women’s Singles\, Mixed Doubles\, Final Four\n$5000 payout.\nFood\, drinks\, sponsor equipment available to all players.\nPlayers are all encouraged to be familiar with the tournament format and eligibilty requirements… Available on this page of the website.\nStay up to date with all things college pickleball at the NCPA on Instagram @ncpapickleball.\nThousands of collegiate players will be ranked nationally both university rankings and individual players rankings.
URL:https://collegiatepb.com/event/ncpa-texas-regional-championships/
LOCATION:Oasis Pickleball Club\, 5757 State Hwy 205\, Rockwall\, TX\, 75032\, United States
CATEGORIES:Collegiate Tours
ORGANIZER;CN="NCPA":MAILTO:ncpapickleball@gmail.com
END:VEVENT
END:VCALENDAR