BEGIN:VCALENDAR
VERSION:2.0
PRODID:-//CollegiatePB - ECPv6.15.20//NONSGML v1.0//EN
CALSCALE:GREGORIAN
METHOD:PUBLISH
X-ORIGINAL-URL:https://collegiatepb.com
X-WR-CALDESC:Events for CollegiatePB
REFRESH-INTERVAL;VALUE=DURATION:PT1H
X-Robots-Tag:noindex
X-PUBLISHED-TTL:PT1H
BEGIN:VTIMEZONE
TZID:UTC
BEGIN:STANDARD
TZOFFSETFROM:+0000
TZOFFSETTO:+0000
TZNAME:UTC
DTSTART:20240101T000000
END:STANDARD
END:VTIMEZONE
BEGIN:VEVENT
DTSTART;VALUE=DATE:20250201
DTEND;VALUE=DATE:20250203
DTSTAMP:20260420T013856
CREATED:20241015T181924Z
LAST-MODIFIED:20250204T175539Z
UID:10000034-1738368000-1738540799@collegiatepb.com
SUMMARY:DUPR Georgia Super Regional
DESCRIPTION:Additional Details: https://www.dupr.com/post/the-2025-collegiate-pickleball-season \nREGISTRATION CLOSES: TBD\nREGISTRATION FEE: $49/player (must register and pay as a team) \nEntry Requirements:\n– Any college student taking a minimum of 6 college credits at the university they are representing can participate\n– Players cannot be partnered up with students from a different school\n– Clubs are not locked by geographic location and can play in as many Super Regionals as they want \nScholarship Money: $6\,000 total\nTeam Bracket: $2500 (1st)\, $1250 (2nd)\, $500 (3rd & 4th)\, $250 (5th-8th)\nChallenger Bracket: $250 (1st)
URL:https://collegiatepb.com/event/dupr-georgia-super-regional-for-spring-2025-nationals/
LOCATION:Pickle and Social Gwinnett\, 2925 Buford Dr\, Suite 2100\, Buford\, GA\, 30519\, United States
CATEGORIES:Collegiate Tours
ORGANIZER;CN="DUPR":MAILTO:college@mydupr.com
END:VEVENT
END:VCALENDAR