BEGIN:VCALENDAR
VERSION:2.0
PRODID:-//CollegiatePB - ECPv6.15.20//NONSGML v1.0//EN
CALSCALE:GREGORIAN
METHOD:PUBLISH
X-WR-CALNAME:CollegiatePB
X-ORIGINAL-URL:https://collegiatepb.com
X-WR-CALDESC:Events for CollegiatePB
REFRESH-INTERVAL;VALUE=DURATION:PT1H
X-Robots-Tag:noindex
X-PUBLISHED-TTL:PT1H
BEGIN:VTIMEZONE
TZID:UTC
BEGIN:STANDARD
TZOFFSETFROM:+0000
TZOFFSETTO:+0000
TZNAME:UTC
DTSTART:20240101T000000
END:STANDARD
END:VTIMEZONE
BEGIN:VEVENT
DTSTART;VALUE=DATE:20250214
DTEND;VALUE=DATE:20250217
DTSTAMP:20260420T015509
CREATED:20241002T161331Z
LAST-MODIFIED:20251011T211321Z
UID:10000031-1739491200-1739750399@collegiatepb.com
SUMMARY:NCPA National Collegiate Pickleball Championships
DESCRIPTION:~ The Nationals format is different from our regionals format… It is essentially MLP Format + Singles. There is an emphasis on University vs. University match play. ~ \n​OVERVIEW: \n​​​​​D1 is exclusive to the top 64 teams that qualified at regionals. \nD2 is a challenger bracket and any college athlete can compete. Individual tournament. \nExact same format as regionals… *See above* \n​What is a match? A match consists of the following games: \n1 Men’s Doubles\, 1 Women’s Doubles\, 2 Mixed Doubles\, 2 Men’s Singles\, 2 Women’s Singles. \n8 total games each match. \nA Sudden Death game will be played (9th game) if the final score is 4-4. The team that conceded the least amount of points throughout the first 8 games gets to choose if the sudden death game is doubles\, singles\, or mixed. Huge advantage. \n​ \n​BRACKET DETAILS: \n​​Teams are seeded prior to Nationals 1-64 based on their performances at Regionals. \n32 byes are rewarded to the top 32 teams… 16 Round One byes and 16 Round Two byes. \nSchedule ​will be posted in the months leading up to Nationals. \n​​ \n​Double Elimination + Two Consolation Brackets \nTeams get two losses before being out of the main draw. Teams that have lost twice get two more losses in the consolation brackets (four losses total) before they are eliminated from the tournament completely. That’s a minimum of four matches total or 32 games total. \nYou cannot win back into the winner’s bracket once you enter a consolation bracket. \nThe loser’s bracket has a chance to win back into the finals and has to beat the winners of the winners’ bracket twice… standard double elimination format. \nThe winners of the consolation brackets will win sponsorship materials (brand new paddles\, balls\, etc.)​ \nTeams that are eliminated have the option to play against other eliminated teams throughout the course of the tournament… More details on this will be explained at the event.​​​​​​​​​​​​​​ \n​​​ \n​For Sudden Death games (9th game to break a tie)\, teams switch sides at six points. \n  \nNationals Championship Payout \n​D1 – $25\,000 total payout. \nD2 – $5\,000 total payout. (same as regionals) \n($30\,000 total) \n​ \n1st – $7\,000 \n2nd – $3\,500 \n3rd – $1\,500 \n4th – $1\,000 \nWATCH ON PICKLETV
URL:https://collegiatepb.com/event/ncpa-national-championships-2425/
LOCATION:Sunset Park Pickleball Complex\, 2601 E Sunset Rd\,\, Las Vegas\, NV\, 89120\, United States
CATEGORIES:Collegiate Tours
ORGANIZER;CN="NCPA":MAILTO:ncpapickleball@gmail.com
END:VEVENT
END:VCALENDAR